BEGIN:VCALENDAR
VERSION:2.0
PRODID:SchoolNow
CALSCALE:GREGORIAN
BEGIN:VEVENT
UID:9bc69550-9803-11ed-be7c-0af0f2d0864b
DTSTAMP:20230207T155427Z
SUMMARY:Nest Valentine's Day sale (chocolate covered strawberries $1)
URL;VALUE=URI:https://www.hunterdonprep.org/students/calendar/3674354/nest-
 valentines-day-sale
DTSTART:20230215T172500Z
DTEND:20230215T182500Z
END:VEVENT
END:VCALENDAR
