BEGIN:VCALENDAR
VERSION:2.0
PRODID:SchoolNow
CALSCALE:GREGORIAN
BEGIN:VEVENT
UID:750f170a-6a79-11ed-b240-0256d7ddd02b
DTSTAMP:20221122T152414Z
SUMMARY:Caroling at the Arc of Hunterdon County
URL;VALUE=URI:https://www.hunterdonprep.org/students/calendar/3622186/carol
 ing-at-the-arc-of-hunterdon-county
DTSTART:20221221T153000Z
DTEND:20221221T163000Z
END:VEVENT
END:VCALENDAR
