BEGIN:VCALENDAR
VERSION:2.0
PRODID:SchoolNow
CALSCALE:GREGORIAN
BEGIN:VEVENT
UID:4b9fc3ce-6a79-11ed-92fc-0256d7ddd02b
DTSTAMP:20221212T163025Z
SUMMARY:Literary Lounge (7th & 8th periods)
URL;VALUE=URI:https://www.hunterdonprep.org/students/calendar/3622185/poetr
 y-cafe
DTSTART:20221216T180000Z
DTEND:20221216T190000Z
END:VEVENT
END:VCALENDAR
