BEGIN:VCALENDAR
VERSION:2.0
PRODID:SchoolNow
CALSCALE:GREGORIAN
BEGIN:VEVENT
UID:1c16f08c-6a79-11ed-a178-0256d7ddd02b
DTSTAMP:20221122T151951Z
SUMMARY:Honor roll lunch (1st marking period)
URL;VALUE=URI:https://www.hunterdonprep.org/students/calendar/3622184/honor
 -roll-lunch-1st-marking-period
DTSTART:20221212T172500Z
DTEND:20221212T182500Z
END:VEVENT
END:VCALENDAR
