BEGIN:VCALENDAR
VERSION:2.0
PRODID:SchoolNow
CALSCALE:GREGORIAN
BEGIN:VEVENT
UID:ef92ae72-668e-11ed-b524-0a188c14bb3b
DTSTAMP:20221117T154600Z
SUMMARY:Caroling at Veterans Haven North
URL;VALUE=URI:https://www.hunterdonprep.org/students/calendar/3614456/carol
 ing-at-veterans-haven-north
DTSTART:20221220T150000Z
DTEND:20221220T160000Z
END:VEVENT
END:VCALENDAR
