BEGIN:VCALENDAR
VERSION:2.0
PRODID:SchoolNow
CALSCALE:GREGORIAN
BEGIN:VEVENT
UID:3ba7d848-59f9-11ed-8345-0ec75d7d476f
DTSTAMP:20221101T152410Z
SUMMARY:School closed for winter break (12/26/22-1/2/23)
URL;VALUE=URI:https://www.hunterdonprep.org/students/calendar/3578609/schoo
 l-closed-for-winter-break-12-26-22-1-2-23
DTSTART;VALUE=DATE:20221226
DTEND;VALUE=DATE:20230103
END:VEVENT
END:VCALENDAR
