BEGIN:VCALENDAR
VERSION:2.0
PRODID:SchoolNow
CALSCALE:GREGORIAN
BEGIN:VEVENT
UID:2657d510-59f9-11ed-99da-0ec75d7d476f
DTSTAMP:20221101T152334Z
SUMMARY:Early dismissal at 12:30
URL;VALUE=URI:https://www.hunterdonprep.org/students/calendar/3578607/early
 -dismissal-at-12-30
DTSTART:20221223T173000Z
DTEND:20221223T183000Z
END:VEVENT
END:VCALENDAR
