BEGIN:VCALENDAR
VERSION:2.0
PRODID:SchoolNow
CALSCALE:GREGORIAN
BEGIN:VEVENT
UID:01deb3c0-59f9-11ed-ad6f-0ec75d7d476f
DTSTAMP:20221101T152233Z
SUMMARY:After school club (seasonal craft)
URL;VALUE=URI:https://www.hunterdonprep.org/students/calendar/3578564/after
 -school-club-seasonal-craft
DTSTART:20221115T193000Z
DTEND:20221115T213000Z
END:VEVENT
END:VCALENDAR
