BEGIN:VCALENDAR
VERSION:2.0
PRODID:SchoolNow
CALSCALE:GREGORIAN
BEGIN:VEVENT
UID:f0ac9f2c-59f8-11ed-856f-0ec75d7d476f
DTSTAMP:20221101T152204Z
SUMMARY:After school club (cooking)
URL;VALUE=URI:https://www.hunterdonprep.org/students/calendar/3578562/after
 -school-club-cooking
DTSTART:20221108T193000Z
DTEND:20221108T213000Z
END:VEVENT
END:VCALENDAR
