BEGIN:VCALENDAR
VERSION:2.0
PRODID:SchoolNow
CALSCALE:GREGORIAN
BEGIN:VEVENT
UID:d36fe22a-59f8-11ed-8052-0ec75d7d476f
DTSTAMP:20221101T152115Z
SUMMARY:After school club (Dungeons & Dragons)
URL;VALUE=URI:https://www.hunterdonprep.org/students/calendar/3578559/after
 -school-club-dungeons-dragons
DTSTART:20221101T183000Z
DTEND:20221101T203000Z
END:VEVENT
END:VCALENDAR
