BEGIN:VCALENDAR
VERSION:2.0
PRODID:SchoolNow
CALSCALE:GREGORIAN
BEGIN:VEVENT
UID:f9925d3a-4fbb-11ed-9b00-021a6daf13a5
DTSTAMP:20221019T144028Z
SUMMARY:Staff/student kickball game
URL;VALUE=URI:https://www.hunterdonprep.org/students/calendar/3539947/staff
 -student-kickball-game
DTSTART:20221103T050000Z
DTEND:20221103T060000Z
END:VEVENT
END:VCALENDAR
