BEGIN:VCALENDAR
VERSION:2.0
PRODID:SchoolNow
CALSCALE:GREGORIAN
BEGIN:VEVENT
UID:dd1b4e8c-4fbb-11ed-87d6-021a6daf13a5
DTSTAMP:20221019T143940Z
SUMMARY:Spirit week - Halloween costumes!!
URL;VALUE=URI:https://www.hunterdonprep.org/students/calendar/3539946/spiri
 t-week-halloween-costumes
DTSTART;VALUE=DATE:20221028
DTEND;VALUE=DATE:20221029
END:VEVENT
END:VCALENDAR
