BEGIN:VCALENDAR
VERSION:2.0
PRODID:SchoolNow
CALSCALE:GREGORIAN
BEGIN:VEVENT
UID:a326771a-4fbb-11ed-b10a-021a6daf13a5
DTSTAMP:20221019T143803Z
SUMMARY:Spirit week - mismatched outfit day
URL;VALUE=URI:https://www.hunterdonprep.org/students/calendar/3539929/spiri
 t-week-mismatched-outfit-day
DTSTART;VALUE=DATE:20221027
DTEND;VALUE=DATE:20221028
END:VEVENT
END:VCALENDAR
