BEGIN:VCALENDAR
VERSION:2.0
PRODID:SchoolNow
CALSCALE:GREGORIAN
BEGIN:VEVENT
UID:940c411a-4fbb-11ed-b70d-021a6daf13a5
DTSTAMP:20221019T143737Z
SUMMARY:Spirit week - wear orange & black
URL;VALUE=URI:https://www.hunterdonprep.org/students/calendar/3539928/spiri
 t-week-wear-orange-black
DTSTART;VALUE=DATE:20221026
DTEND;VALUE=DATE:20221027
END:VEVENT
END:VCALENDAR
