BEGIN:VCALENDAR
VERSION:2.0
PRODID:SchoolNow
CALSCALE:GREGORIAN
BEGIN:VEVENT
UID:85f2e12e-4fbb-11ed-87c1-021a6daf13a5
DTSTAMP:20221019T143714Z
SUMMARY:Spirit week - wear crazy socks/hats
URL;VALUE=URI:https://www.hunterdonprep.org/students/calendar/3539926/spiri
 t-week-wear-crazy-socks-hats
DTSTART;VALUE=DATE:20221025
DTEND;VALUE=DATE:20221026
END:VEVENT
END:VCALENDAR
