BEGIN:VCALENDAR
VERSION:2.0
PRODID:SchoolNow
CALSCALE:GREGORIAN
BEGIN:VEVENT
UID:78fb8ba6-4fbb-11ed-acde-021a6daf13a5
DTSTAMP:20221019T143652Z
SUMMARY:Spirit week - wear pajamas
URL;VALUE=URI:https://www.hunterdonprep.org/students/calendar/3539925/spiri
 t-week-wear-pajamas
DTSTART;VALUE=DATE:20221024
DTEND;VALUE=DATE:20221025
END:VEVENT
END:VCALENDAR
