BEGIN:VCALENDAR
VERSION:2.0
PRODID:SchoolNow
CALSCALE:GREGORIAN
BEGIN:VEVENT
UID:49259e06-39d8-11ed-994c-0ab3319b10ed
DTSTAMP:20220921T180742Z
SUMMARY:School closed for Thanksgiving holiday (11/24 & 11/25)
URL;VALUE=URI:https://www.hunterdonprep.org/students/calendar/3423653/schoo
 l-closed-for-thanksgiving-holiday-11-24-11-25
DTSTART;VALUE=DATE:20221124
DTEND;VALUE=DATE:20221126
END:VEVENT
END:VCALENDAR
