BEGIN:VCALENDAR
VERSION:2.0
PRODID:SchoolNow
CALSCALE:GREGORIAN
BEGIN:VEVENT
UID:c109de38-39d7-11ed-aac0-0ab3319b10ed
DTSTAMP:20220921T180353Z
SUMMARY:HPS Thanksgiving
URL;VALUE=URI:https://www.hunterdonprep.org/students/calendar/3423651/hps-t
 hanksgiving
DTSTART:20221122T170000Z
DTEND:20221122T190000Z
END:VEVENT
END:VCALENDAR
