BEGIN:VCALENDAR
VERSION:2.0
PRODID:SchoolNow
CALSCALE:GREGORIAN
BEGIN:VEVENT
UID:af179a08-39d7-11ed-b999-0ab3319b10ed
DTSTAMP:20220921T180323Z
SUMMARY:School closed for NJEA (11/10 & 11/11)
URL;VALUE=URI:https://www.hunterdonprep.org/students/calendar/3423650/schoo
 l-closed-for-njea-11-10-11-11
DTSTART;VALUE=DATE:20221110
DTEND;VALUE=DATE:20221112
END:VEVENT
END:VCALENDAR
