BEGIN:VCALENDAR
VERSION:2.0
PRODID:SchoolNow
CALSCALE:GREGORIAN
BEGIN:VEVENT
UID:43c9c082-39d7-11ed-8d97-0ab3319b10ed
DTSTAMP:20220921T180023Z
SUMMARY:Halloween film festival
URL;VALUE=URI:https://www.hunterdonprep.org/students/calendar/3423648/hallo
 ween-film-festival
DTSTART:20221031T170000Z
DTEND:20221031T180000Z
END:VEVENT
END:VCALENDAR
