BEGIN:VCALENDAR
VERSION:2.0
PRODID:SchoolNow
CALSCALE:GREGORIAN
BEGIN:VEVENT
UID:34323000-39d7-11ed-a883-0ab3319b10ed
DTSTAMP:20220921T175957Z
SUMMARY:HPS Halloween
URL;VALUE=URI:https://www.hunterdonprep.org/students/calendar/3423647/hps-h
 alloween
DTSTART:20221028T170000Z
DTEND:20221028T183000Z
END:VEVENT
END:VCALENDAR
