BEGIN:VCALENDAR
VERSION:2.0
PRODID:SchoolNow
CALSCALE:GREGORIAN
BEGIN:VEVENT
UID:1fda1d98-39d7-11ed-98aa-0ab3319b10ed
DTSTAMP:20221013T153315Z
SUMMARY:Halloween concert rehearsal (2:30-6:00 PM)
URL;VALUE=URI:https://www.hunterdonprep.org/students/calendar/3423646/hallo
 ween-concert-rehearsal-2-30-6-00-pm
DTSTART:20221026T183000Z
DTEND:20221026T220000Z
END:VEVENT
END:VCALENDAR
