BEGIN:VCALENDAR
VERSION:2.0
PRODID:SchoolNow
CALSCALE:GREGORIAN
BEGIN:VEVENT
UID:d4e958cc-39d5-11ed-aea2-0a9e73b9aa21
DTSTAMP:20220921T175008Z
SUMMARY:Nest bake sale
URL;VALUE=URI:https://www.hunterdonprep.org/students/calendar/3423631/nest-
 bake-sale
DTSTART:20221006T130000Z
DTEND:20221006T170000Z
END:VEVENT
END:VCALENDAR
