BEGIN:VCALENDAR
VERSION:2.0
PRODID:SchoolNow
CALSCALE:GREGORIAN
BEGIN:VEVENT
UID:84b4c674-a8f5-11eb-a1a4-0a9689a8c0a7
DTSTAMP:20210429T141641Z
SUMMARY:After school club - tie dye (2:30-4:30)
URL;VALUE=URI:https://www.hunterdonprep.org/students/calendar/2589009/after
 -school-club-tie-dye-2-30-4-30
DTSTART:20210520T183000Z
DTEND:20210520T203000Z
END:VEVENT
END:VCALENDAR
