BEGIN:VCALENDAR
VERSION:2.0
PRODID:SchoolNow
CALSCALE:GREGORIAN
BEGIN:VEVENT
UID:7239ac94-a8f5-11eb-a141-0a9689a8c0a7
DTSTAMP:20210429T141610Z
SUMMARY:After school club - garden craft (2:30-4:30)
URL;VALUE=URI:https://www.hunterdonprep.org/students/calendar/2589008/after
 -school-club-garden-craft-2-30-4-30
DTSTART:20210518T183000Z
DTEND:20210518T203000Z
END:VEVENT
END:VCALENDAR
