BEGIN:VCALENDAR
VERSION:2.0
PRODID:SchoolNow
CALSCALE:GREGORIAN
BEGIN:VEVENT
UID:5972d9ec-a8f5-11eb-9a23-0a9689a8c0a7
DTSTAMP:20210429T141528Z
SUMMARY:After school club - Lip Dub (2:30-4:30)
URL;VALUE=URI:https://www.hunterdonprep.org/students/calendar/2589007/after
 -school-club-lip-dub-2-30-4-30
DTSTART:20210513T183000Z
DTEND:20210513T203000Z
END:VEVENT
END:VCALENDAR
