BEGIN:VCALENDAR
VERSION:2.0
PRODID:SchoolNow
CALSCALE:GREGORIAN
BEGIN:VEVENT
UID:37dfb0fc-a8f5-11eb-9c8a-0a9689a8c0a7
DTSTAMP:20210429T141432Z
SUMMARY:After school club - outdoor games (2:30-4:30)
URL;VALUE=URI:https://www.hunterdonprep.org/students/calendar/2589006/after
 -school-club-outdoor-games-2-30-4-30
DTSTART:20210511T183000Z
DTEND:20210511T203000Z
END:VEVENT
END:VCALENDAR
