BEGIN:VCALENDAR
VERSION:2.0
PRODID:SchoolNow
CALSCALE:GREGORIAN
BEGIN:VEVENT
UID:23699d86-a8f5-11eb-9294-0a9689a8c0a7
DTSTAMP:20210429T141443Z
SUMMARY:After school club - Cinco de Mayo (2:30-4:30)
URL;VALUE=URI:https://www.hunterdonprep.org/students/calendar/2589005/after
 -school-club-cinco-de-mayo
DTSTART:20210506T183000Z
DTEND:20210506T203000Z
END:VEVENT
END:VCALENDAR
