BEGIN:VCALENDAR
VERSION:2.0
PRODID:SchoolNow
CALSCALE:GREGORIAN
BEGIN:VEVENT
UID:104d784e-a8f5-11eb-a5f1-0a9689a8c0a7
DTSTAMP:20210429T141325Z
SUMMARY:After school club - Star War Day (2:30-4:30)
URL;VALUE=URI:https://www.hunterdonprep.org/students/calendar/2589004/after
 -school-club-star-war-day-2-30-4-30
DTSTART:20210504T183000Z
DTEND:20210504T203000Z
END:VEVENT
END:VCALENDAR
