BEGIN:VCALENDAR
VERSION:2.0
PRODID:SchoolNow
CALSCALE:GREGORIAN
BEGIN:VEVENT
UID:362c6576-81bc-11eb-abc7-0a78e47228af
DTSTAMP:20210310T161812Z
SUMMARY:After school club (ping pong and other games)
URL;VALUE=URI:https://www.hunterdonprep.org/students/calendar/2554581/after
 -school-club-ping-pong-and-other-games
DTSTART:20210310T193000Z
DTEND:20210310T213000Z
END:VEVENT
END:VCALENDAR
