BEGIN:VCALENDAR
VERSION:2.0
PRODID:SchoolNow
CALSCALE:GREGORIAN
BEGIN:VEVENT
UID:28efbef8-81bc-11eb-9245-0a78e47228af
DTSTAMP:20210310T161750Z
SUMMARY:After school club (ping pong and other games)
URL;VALUE=URI:https://www.hunterdonprep.org/students/calendar/2554580/after
 -school-club-ping-pong-and-other-games
DTSTART:20210323T183000Z
DTEND:20210323T203000Z
END:VEVENT
END:VCALENDAR
