BEGIN:VCALENDAR
VERSION:2.0
PRODID:SchoolNow
CALSCALE:GREGORIAN
BEGIN:VEVENT
UID:d4f3981a-81bb-11eb-bd65-0a78e47228af
DTSTAMP:20210310T161529Z
SUMMARY:After school club (aromatherapy/relaxation jars)
URL;VALUE=URI:https://www.hunterdonprep.org/students/calendar/2554577/after
 -school-club-aromatherapy-relaxation-jars
DTSTART:20210311T193000Z
DTEND:20210311T213000Z
END:VEVENT
END:VCALENDAR
