BEGIN:VCALENDAR
VERSION:2.0
PRODID:SchoolNow
CALSCALE:GREGORIAN
BEGIN:VEVENT
UID:d53e3644-7866-11eb-b0bc-020d62e110bf
DTSTAMP:20210310T161242Z
SUMMARY:Draw BIG for Youth Art Month
URL;VALUE=URI:https://www.hunterdonprep.org/students/calendar/2547687/draw-
 big-for-youth-art-month
DTSTART:20210323T130000Z
DTEND:20210323T142000Z
END:VEVENT
END:VCALENDAR
