BEGIN:VCALENDAR
VERSION:2.0
PRODID:SchoolNow
CALSCALE:GREGORIAN
BEGIN:VEVENT
UID:c1231652-7866-11eb-818d-020d62e110bf
DTSTAMP:20210310T161232Z
SUMMARY:Draw BIG for Youth Art Month
URL;VALUE=URI:https://www.hunterdonprep.org/students/calendar/2547686/draw-
 big-for-youth-art-month
DTSTART:20210322T130000Z
DTEND:20210322T142000Z
END:VEVENT
END:VCALENDAR
