BEGIN:VCALENDAR
VERSION:2.0
PRODID:SchoolNow
CALSCALE:GREGORIAN
BEGIN:VEVENT
UID:ab601ebe-7866-11eb-8fd9-020d62e110bf
DTSTAMP:20210226T191312Z
SUMMARY:Hawaiian shirt/shorts (weather permitting) day
URL;VALUE=URI:https://www.hunterdonprep.org/students/calendar/2547685/hawai
 ian-shirt-shorts-weather-permitting-day
DTSTART;VALUE=DATE:20210305
DTEND;VALUE=DATE:20210306
END:VEVENT
END:VCALENDAR
