BEGIN:VCALENDAR
VERSION:2.0
PRODID:SchoolNow
CALSCALE:GREGORIAN
BEGIN:VEVENT
UID:97263f0a-7866-11eb-a5a7-020d62e110bf
DTSTAMP:20210226T191238Z
SUMMARY:Flip flops/crazy sock day
URL;VALUE=URI:https://www.hunterdonprep.org/students/calendar/2547684/flip-
 flops-crazy-sock-day
DTSTART;VALUE=DATE:20210304
DTEND;VALUE=DATE:20210305
END:VEVENT
END:VCALENDAR
