BEGIN:VCALENDAR
VERSION:2.0
PRODID:SchoolNow
CALSCALE:GREGORIAN
BEGIN:VEVENT
UID:88ce876e-7866-11eb-b102-020d62e110bf
DTSTAMP:20210226T191214Z
SUMMARY:Tropical virtual background day
URL;VALUE=URI:https://www.hunterdonprep.org/students/calendar/2547683/tropi
 cal-virtual-background-day
DTSTART;VALUE=DATE:20210303
DTEND;VALUE=DATE:20210304
END:VEVENT
END:VCALENDAR
