BEGIN:VCALENDAR
VERSION:2.0
PRODID:SchoolNow
CALSCALE:GREGORIAN
BEGIN:VEVENT
UID:7a337444-7866-11eb-9a3e-020d62e110bf
DTSTAMP:20210226T191149Z
SUMMARY:Beach hat/crazy hair day
URL;VALUE=URI:https://www.hunterdonprep.org/students/calendar/2547682/beach
 -hat-crazy-hair-day
DTSTART;VALUE=DATE:20210302
DTEND;VALUE=DATE:20210303
END:VEVENT
END:VCALENDAR
