BEGIN:VCALENDAR
VERSION:2.0
PRODID:SchoolNow
CALSCALE:GREGORIAN
BEGIN:VEVENT
UID:612a213c-7866-11eb-9ad4-020d62e110bf
DTSTAMP:20210226T191107Z
SUMMARY:Poetry Cafe (1:00-2:30)
URL;VALUE=URI:https://www.hunterdonprep.org/students/calendar/2547681/poetr
 y-cafe-1-00-2-30
DTSTART:20210301T180000Z
DTEND:20210301T193000Z
END:VEVENT
END:VCALENDAR
