BEGIN:VCALENDAR
VERSION:2.0
PRODID:SchoolNow
CALSCALE:GREGORIAN
BEGIN:VEVENT
UID:4bc42536-5ffc-11eb-b2d6-0e29c356e075
DTSTAMP:20210126T173117Z
SUMMARY:After-school club (Groundhog Day)
URL;VALUE=URI:https://www.hunterdonprep.org/students/calendar/2530979/after
 -school-club-groundhog-day
DTSTART:20210202T193000Z
DTEND:20210202T213000Z
END:VEVENT
END:VCALENDAR
