BEGIN:VCALENDAR
VERSION:2.0
PRODID:SchoolNow
CALSCALE:GREGORIAN
BEGIN:VEVENT
UID:84a97cf8-206d-11f0-9650-0a58a9feac02
DTSTAMP:20250423T180519Z
SUMMARY:NJSLA testing for high school students
URL;VALUE=URI:https://www.hunterdonprep.org/calendar/7992120/njsla-testing-
 for-high-school-students
DTSTART;VALUE=DATE:20250505
DTEND;VALUE=DATE:20250516
END:VEVENT
END:VCALENDAR
