BEGIN:VCALENDAR
VERSION:2.0
PRODID:SchoolNow
CALSCALE:GREGORIAN
BEGIN:VEVENT
UID:36bbf512-206c-11f0-ab17-0a58a9feac02
DTSTAMP:20250423T175559Z
SUMMARY:Cave hot dog sale
URL;VALUE=URI:https://www.hunterdonprep.org/calendar/7992104/cave-hot-dog-s
 ale
DTSTART:20250508T162500Z
DTEND:20250508T172500Z
END:VEVENT
END:VCALENDAR
