BEGIN:VCALENDAR
VERSION:2.0
PRODID:SchoolNow
CALSCALE:GREGORIAN
BEGIN:VEVENT
UID:24151fec-206c-11f0-8f36-0e8b839452af
DTSTAMP:20250423T175528Z
SUMMARY:3rd marking period honor roll luncheon
URL;VALUE=URI:https://www.hunterdonprep.org/calendar/7992103/3rd-marking-pe
 riod-honor-roll-luncheon
DTSTART:20250502T160000Z
DTEND:20250502T173000Z
END:VEVENT
END:VCALENDAR
