BEGIN:VCALENDAR
VERSION:2.0
PRODID:SchoolNow
CALSCALE:GREGORIAN
BEGIN:VEVENT
UID:a0cf52bc-0b24-11f0-aac4-026b3fcbf877
DTSTAMP:20250327T160039Z
SUMMARY:Eyes of the Wild assembly presentation
URL;VALUE=URI:https://www.hunterdonprep.org/calendar/7785737/eyes-of-the-wi
 ld-assembly-presentation
DTSTART:20250516T140000Z
DTEND:20250516T150000Z
END:VEVENT
END:VCALENDAR
