BEGIN:VCALENDAR
VERSION:2.0
PRODID:SchoolNow
CALSCALE:GREGORIAN
BEGIN:VEVENT
UID:ef466a70-7a79-11ef-b221-0a58a9feac02
DTSTAMP:20241014T182226Z
SUMMARY:HPS winter holiday celebration/concert
URL;VALUE=URI:https://www.hunterdonprep.org/calendar/6678970/hps-winter-hol
 iday-celebration
DTSTART:20241220T140000Z
DTEND:20241220T173000Z
END:VEVENT
END:VCALENDAR
