BEGIN:VCALENDAR
VERSION:2.0
PRODID:SchoolNow
CALSCALE:GREGORIAN
BEGIN:VEVENT
UID:7a53ddb6-190c-11ef-9910-027ab15cacf1
DTSTAMP:20240523T135805Z
SUMMARY:School closed on 6/19 for all staff. Reopens 6/20.
URL;VALUE=URI:https://www.hunterdonprep.org/calendar/6016796/school-closed-
 on-6-19-for-all-staff-reopens-6-20
DTSTART;VALUE=DATE:20240619
DTEND;VALUE=DATE:20240620
END:VEVENT
END:VCALENDAR
