BEGIN:VCALENDAR
VERSION:2.0
PRODID:SchoolNow
CALSCALE:GREGORIAN
BEGIN:VEVENT
UID:631f7f88-190c-11ef-96b6-0affdd2052cb
DTSTAMP:20240523T135726Z
SUMMARY:Last day of school (6/18)
URL;VALUE=URI:https://www.hunterdonprep.org/calendar/6016795/last-day-of-sc
 hool-6-18
DTSTART;VALUE=DATE:20240618
DTEND;VALUE=DATE:20240619
END:VEVENT
END:VCALENDAR
