BEGIN:VCALENDAR
VERSION:2.0
PRODID:SchoolNow
CALSCALE:GREGORIAN
BEGIN:VEVENT
UID:52c9af8c-190c-11ef-b064-0a58a9feac02
DTSTAMP:20240523T135659Z
SUMMARY:Graduation practice (11:00 - 12:30)
URL;VALUE=URI:https://www.hunterdonprep.org/calendar/6016794/graduation-pra
 ctice-11-00-12-30
DTSTART:20240612T150500Z
DTEND:20240612T162500Z
END:VEVENT
END:VCALENDAR
