BEGIN:VCALENDAR
VERSION:2.0
PRODID:SchoolNow
CALSCALE:GREGORIAN
BEGIN:VEVENT
UID:96ed2c12-190b-11ef-b1d6-0a58a9feac02
DTSTAMP:20240523T135143Z
SUMMARY:Kayak trip (Clinton)
URL;VALUE=URI:https://www.hunterdonprep.org/calendar/6016793/kayak-trip-cli
 nton
DTSTART:20240607T130000Z
DTEND:20240607T163000Z
END:VEVENT
END:VCALENDAR
