BEGIN:VCALENDAR
VERSION:2.0
PRODID:SchoolNow
CALSCALE:GREGORIAN
BEGIN:VEVENT
UID:78247e66-190b-11ef-86dd-0affdd2052cb
DTSTAMP:20240523T135052Z
SUMMARY:Games class mini golf trip
URL;VALUE=URI:https://www.hunterdonprep.org/calendar/6016792/games-class-mi
 ni-golf-trip
DTSTART:20240604T170000Z
DTEND:20240604T183000Z
END:VEVENT
END:VCALENDAR
